BEGIN:VCALENDAR
VERSION:2.0
PRODID:icalendar-ruby
CALSCALE:GREGORIAN
BEGIN:VEVENT
DTSTAMP:20260421T104430Z
UID:9ecf3394-2acc-4b8d-9020-4951404cfeb1
DTSTART;VALUE=DATE:20260312
DESCRIPTION:Property ID# 604228\, Time: 4:30PM
SUMMARY:Auction for 
END:VEVENT
END:VCALENDAR
