BEGIN:VCALENDAR
VERSION:2.0
PRODID:icalendar-ruby
CALSCALE:GREGORIAN
BEGIN:VEVENT
DTSTAMP:20260419T144337Z
UID:eda26a84-4873-4159-bdb5-7d22bea85460
DTSTART;VALUE=DATE:20260506
DESCRIPTION:Property ID# 606604\, Time: 4:00PM
SUMMARY:Auction for 55 Tutaipatu Avenue
END:VEVENT
END:VCALENDAR
